BEGIN:VCALENDAR
VERSION:2.0
PRODID:-//The Bayou Restaurant - ECPv6.15.20//NONSGML v1.0//EN
CALSCALE:GREGORIAN
METHOD:PUBLISH
X-WR-CALNAME:The Bayou Restaurant
X-ORIGINAL-URL:https://www.bayourestaurantny.com
X-WR-CALDESC:Events for The Bayou Restaurant
REFRESH-INTERVAL;VALUE=DURATION:PT1H
X-Robots-Tag:noindex
X-PUBLISHED-TTL:PT1H
BEGIN:VTIMEZONE
TZID:America/New_York
BEGIN:DAYLIGHT
TZOFFSETFROM:-0500
TZOFFSETTO:-0400
TZNAME:EDT
DTSTART:20250309T070000
END:DAYLIGHT
BEGIN:STANDARD
TZOFFSETFROM:-0400
TZOFFSETTO:-0500
TZNAME:EST
DTSTART:20251102T060000
END:STANDARD
BEGIN:DAYLIGHT
TZOFFSETFROM:-0500
TZOFFSETTO:-0400
TZNAME:EDT
DTSTART:20260308T070000
END:DAYLIGHT
BEGIN:STANDARD
TZOFFSETFROM:-0400
TZOFFSETTO:-0500
TZNAME:EST
DTSTART:20261101T060000
END:STANDARD
BEGIN:DAYLIGHT
TZOFFSETFROM:-0500
TZOFFSETTO:-0400
TZNAME:EDT
DTSTART:20270314T070000
END:DAYLIGHT
BEGIN:STANDARD
TZOFFSETFROM:-0400
TZOFFSETTO:-0500
TZNAME:EST
DTSTART:20271107T060000
END:STANDARD
END:VTIMEZONE
BEGIN:VEVENT
DTSTART;TZID=America/New_York:20260418T210000
DTEND;TZID=America/New_York:20260418T233000
DTSTAMP:20260422T002848
CREATED:20260225T134650Z
LAST-MODIFIED:20260225T134650Z
UID:1713-1776546000-1776555000@www.bayourestaurantny.com
SUMMARY:Shinebox Live @The Bayou
DESCRIPTION:⏰ 2 Sets: 9:00 PM – 11:30 PM \nGet ready to turn it up — Shinebox (formerly The Winnie Shins) is bringing the harder side of your classic rock favorites to The Bayou! \nFrom powerful vocals to driving guitars and tight rhythm\, Shinebox delivers high-energy performances that keep the crowd on its feet. Expect the rock anthems you love — louder\, bolder\, and played the way they were meant to be heard. \nCome early for dinner\, stay late for the show. Great food\, strong drinks\, and serious rock vibes all night long. \nDarn Good Eats! Darn Good Music! \nReserve your table now — this one’s going to be loud. 🎸🔥
URL:https://www.bayourestaurantny.com/event/shinebox-live-the-bayou/
LOCATION:The Bayou Restaurant\, 580 Gramatan Ave\, Mount Vernon\, NY\, 10552\, United States
ATTACH;FMTTYPE=image/jpeg:https://www.bayourestaurantny.com/wp-content/uploads/shinebox_at_the_bayou.jpg
END:VEVENT
END:VCALENDAR