BEGIN:VCALENDAR
VERSION:2.0
PRODID:-//The Bayou Restaurant - ECPv6.15.20//NONSGML v1.0//EN
CALSCALE:GREGORIAN
METHOD:PUBLISH
X-WR-CALNAME:The Bayou Restaurant
X-ORIGINAL-URL:https://www.bayourestaurantny.com
X-WR-CALDESC:Events for The Bayou Restaurant
REFRESH-INTERVAL;VALUE=DURATION:PT1H
X-Robots-Tag:noindex
X-PUBLISHED-TTL:PT1H
BEGIN:VTIMEZONE
TZID:America/New_York
BEGIN:DAYLIGHT
TZOFFSETFROM:-0500
TZOFFSETTO:-0400
TZNAME:EDT
DTSTART:20250309T070000
END:DAYLIGHT
BEGIN:STANDARD
TZOFFSETFROM:-0400
TZOFFSETTO:-0500
TZNAME:EST
DTSTART:20251102T060000
END:STANDARD
BEGIN:DAYLIGHT
TZOFFSETFROM:-0500
TZOFFSETTO:-0400
TZNAME:EDT
DTSTART:20260308T070000
END:DAYLIGHT
BEGIN:STANDARD
TZOFFSETFROM:-0400
TZOFFSETTO:-0500
TZNAME:EST
DTSTART:20261101T060000
END:STANDARD
BEGIN:DAYLIGHT
TZOFFSETFROM:-0500
TZOFFSETTO:-0400
TZNAME:EDT
DTSTART:20270314T070000
END:DAYLIGHT
BEGIN:STANDARD
TZOFFSETFROM:-0400
TZOFFSETTO:-0500
TZNAME:EST
DTSTART:20271107T060000
END:STANDARD
END:VTIMEZONE
BEGIN:VEVENT
DTSTART;TZID=America/New_York:20260515T210000
DTEND;TZID=America/New_York:20260515T210000
DTSTAMP:20260421T133438
CREATED:20260106T191159Z
LAST-MODIFIED:20260106T191509Z
UID:1683-1778878800-1778878800@www.bayourestaurantny.com
SUMMARY:Moving Pictures – Tribute to RUSH
DESCRIPTION:Rock out with Moving Pictures\, the ultimate tribute to RUSH\, at The Bayou Restaurant! Relive the legendary sounds\, epic solos\, and iconic energy of one of rock’s greatest bands in a night you won’t forget. \n✨ Darn Good Eats\, Darn Good Music! ✨ \n📍 The Bayou Restaurant\n🗓 Friday\, May 15th\n⏰ Music starts at 9:00 PM
URL:https://www.bayourestaurantny.com/event/moving-pictures-tribute-to-rush/
LOCATION:The Bayou Restaurant\, 580 Gramatan Ave\, Mount Vernon\, NY\, 10552\, United States
ATTACH;FMTTYPE=image/jpeg:https://www.bayourestaurantny.com/wp-content/uploads/moving_pictures-1.jpg
END:VEVENT
BEGIN:VEVENT
DTSTART;TZID=America/New_York:20260522T210000
DTEND;TZID=America/New_York:20260522T210000
DTSTAMP:20260421T133438
CREATED:20260327T124401Z
LAST-MODIFIED:20260327T124707Z
UID:1721-1779483600-1779483600@www.bayourestaurantny.com
SUMMARY:Elvis Tribute @The Bayoou
DESCRIPTION:🎤 Elvis Is Coming to The Bayou! \nGet ready for a night of unforgettable music\, energy\, and pure rock ‘n’ roll magic! \nWe’re thrilled to announce an exciting upcoming event that will have you dancing\, singing\, and falling in love with the classics all over again. \nElvis Tribute Night – Live at The Bayou. \nJoin us for a spectacular live performance featuring Patrick Perone and The Blue Suede Rockers\, bringing the legendary sound and charisma of Elvis Presley to life. \nAt The Bayou\, we’re all about bringing people together for incredible nights like this.\n🍽️ Darn Good Eats! Darn Good Music! \nGet Your Tickets
URL:https://www.bayourestaurantny.com/event/elvis-tribute-the-bayoou/
LOCATION:The Bayou Restaurant\, 580 Gramatan Ave\, Mount Vernon\, NY\, 10552\, United States
ATTACH;FMTTYPE=image/jpeg:https://www.bayourestaurantny.com/wp-content/uploads/elvis_tribute_at_the_bayou_restaurant.jpg
END:VEVENT
BEGIN:VEVENT
DTSTART;TZID=America/New_York:20260606T210000
DTEND;TZID=America/New_York:20260606T210000
DTSTAMP:20260421T133438
CREATED:20260106T192424Z
LAST-MODIFIED:20260106T192553Z
UID:1687-1780779600-1780779600@www.bayourestaurantny.com
SUMMARY:CJ Chenier & The Red Hot Louisiana Band Return to The Bayou
DESCRIPTION:Get ready for a high-energy Zydeco celebration as CJ Chenier\, the Crowned Prince of Zydeco\, returns to The Bayou Restaurant with The Red Hot Louisiana Band! Expect infectious rhythms\, sizzling solos\, and a night full of danceable grooves and unforgettable music. \nGrab Your Tickets before they’re gone! \n✨ Darn Good Eats\, Darn Good Music! ✨ \n📍 The Bayou Restaurant\n🗓 Saturday\, June 6th\n⏰ Music starts at 9:00 PM
URL:https://www.bayourestaurantny.com/event/cj-chenier-the-red-hot-louisiana-band-return-to-the-bayou/
LOCATION:The Bayou Restaurant\, 580 Gramatan Ave\, Mount Vernon\, NY\, 10552\, United States
ATTACH;FMTTYPE=image/jpeg:https://www.bayourestaurantny.com/wp-content/uploads/2024/02/cj_chenier_icon.jpg
END:VEVENT
END:VCALENDAR