BEGIN:VCALENDAR
VERSION:2.0
PRODID:-//The Bayou Restaurant - ECPv6.15.20//NONSGML v1.0//EN
CALSCALE:GREGORIAN
METHOD:PUBLISH
X-ORIGINAL-URL:https://www.bayourestaurantny.com
X-WR-CALDESC:Events for The Bayou Restaurant
REFRESH-INTERVAL;VALUE=DURATION:PT1H
X-Robots-Tag:noindex
X-PUBLISHED-TTL:PT1H
BEGIN:VTIMEZONE
TZID:America/New_York
BEGIN:DAYLIGHT
TZOFFSETFROM:-0500
TZOFFSETTO:-0400
TZNAME:EDT
DTSTART:20250309T070000
END:DAYLIGHT
BEGIN:STANDARD
TZOFFSETFROM:-0400
TZOFFSETTO:-0500
TZNAME:EST
DTSTART:20251102T060000
END:STANDARD
BEGIN:DAYLIGHT
TZOFFSETFROM:-0500
TZOFFSETTO:-0400
TZNAME:EDT
DTSTART:20260308T070000
END:DAYLIGHT
BEGIN:STANDARD
TZOFFSETFROM:-0400
TZOFFSETTO:-0500
TZNAME:EST
DTSTART:20261101T060000
END:STANDARD
BEGIN:DAYLIGHT
TZOFFSETFROM:-0500
TZOFFSETTO:-0400
TZNAME:EDT
DTSTART:20270314T070000
END:DAYLIGHT
BEGIN:STANDARD
TZOFFSETFROM:-0400
TZOFFSETTO:-0500
TZNAME:EST
DTSTART:20271107T060000
END:STANDARD
END:VTIMEZONE
BEGIN:VEVENT
DTSTART;TZID=America/New_York:20260110T210000
DTEND;TZID=America/New_York:20260110T210000
DTSTAMP:20260422T014840
CREATED:20251107T141401Z
LAST-MODIFIED:20251107T142824Z
UID:1599-1768078800-1768078800@www.bayourestaurantny.com
SUMMARY:Kerry Kearney @The Bayou
DESCRIPTION:Kick off the new year with a night of blistering blues and soulful grooves as Kerry Kearney takes the stage at The Bayou!  \nKerry Kearney’s style\, music from the “Psychedelta”\, is his own brand containing an upbeat mix of American Blues & Roots\, created from writing and performing on the circuit for over 40 years. Along with his band\, he has continued to experience an overwhelming and positive response over the airwaves and especially when performing live. His wailing upbeat style of blues\, driven by tasty\, inspired guitar riffs\, electrifying slide and infectious rhythms\, has allowed Kerry to amass a huge loyal following \nJoin us for an unforgettable evening at the legendary Bayou Restaurant\, where it’s always “Darn Good Eats\, Darn Good Music!” Come hungry\, grab a drink\, and get ready to feel the blues like never before.
URL:https://www.bayourestaurantny.com/event/kerry-kearney-the-bayou/
LOCATION:The Bayou Restaurant\, 580 Gramatan Ave\, Mount Vernon\, NY\, 10552\, United States
ATTACH;FMTTYPE=image/jpeg:https://www.bayourestaurantny.com/wp-content/uploads/kerry_kearney.jpg
END:VEVENT
END:VCALENDAR