BEGIN:VCALENDAR
VERSION:2.0
PRODID:-//The Bayou Restaurant - ECPv6.15.20//NONSGML v1.0//EN
CALSCALE:GREGORIAN
METHOD:PUBLISH
X-WR-CALNAME:The Bayou Restaurant
X-ORIGINAL-URL:https://www.bayourestaurantny.com
X-WR-CALDESC:Events for The Bayou Restaurant
REFRESH-INTERVAL;VALUE=DURATION:PT1H
X-Robots-Tag:noindex
X-PUBLISHED-TTL:PT1H
BEGIN:VTIMEZONE
TZID:America/New_York
BEGIN:DAYLIGHT
TZOFFSETFROM:-0500
TZOFFSETTO:-0400
TZNAME:EDT
DTSTART:20230312T070000
END:DAYLIGHT
BEGIN:STANDARD
TZOFFSETFROM:-0400
TZOFFSETTO:-0500
TZNAME:EST
DTSTART:20231105T060000
END:STANDARD
BEGIN:DAYLIGHT
TZOFFSETFROM:-0500
TZOFFSETTO:-0400
TZNAME:EDT
DTSTART:20240310T070000
END:DAYLIGHT
BEGIN:STANDARD
TZOFFSETFROM:-0400
TZOFFSETTO:-0500
TZNAME:EST
DTSTART:20241103T060000
END:STANDARD
BEGIN:DAYLIGHT
TZOFFSETFROM:-0500
TZOFFSETTO:-0400
TZNAME:EDT
DTSTART:20250309T070000
END:DAYLIGHT
BEGIN:STANDARD
TZOFFSETFROM:-0400
TZOFFSETTO:-0500
TZNAME:EST
DTSTART:20251102T060000
END:STANDARD
END:VTIMEZONE
BEGIN:VEVENT
DTSTART;TZID=America/New_York:20240720T210000
DTEND;TZID=America/New_York:20240720T210000
DTSTAMP:20260419T100305
CREATED:20240628T203838Z
LAST-MODIFIED:20240628T203838Z
UID:1328-1721509200-1721509200@www.bayourestaurantny.com
SUMMARY:Al Smith & Juma Sultan @The Bayou
DESCRIPTION:The Magnetic Eclectic sounds of Al Smith!\n\nWith special guest: Juma Sultan (Jimi Hendrix and Richie Havens’ percussionist).\n\nAn Edutainment “Experience” keeping the Soul of music alive!
URL:https://www.bayourestaurantny.com/event/al-smith-juma-sultan-the-bayou/
LOCATION:The Bayou Restaurant\, 580 Gramatan Ave\, Mount Vernon\, NY\, 10552\, United States
ATTACH;FMTTYPE=image/jpeg:https://www.bayourestaurantny.com/wp-content/uploads/al_smith_at_the_bayou.jpg
END:VEVENT
END:VCALENDAR